BEGIN:VCALENDAR
VERSION:2.0
PRODID:-//Library Market//iCal Export//EN
BEGIN:VEVENT
SUMMARY:Asian American and Pacific Islander Reading Challenge
UID:18931
DTSTAMP:20260424T082100Z
DTSTART:20260501T070000Z
DTEND:20260501T070000Z
LOCATION:
DESCRIPTION:Asian American/Pacific Islander Reading ChallengeAll AgesMay 1
 -May 31Read or listen to a book by an Asian American or Pacific Islander a
 uthor to be entered to win a $50 gift card to a local Asian food restauran
 t of your choice. You may submit each title you read.Deadline May 31.Entr
 y forms available at the Coos Bay Public Library front desk.
URL:https://www.coosbaylibrary.org/event/asian-american-and-pacific-island
 er-reading-challenge-18931
END:VEVENT
END:VCALENDAR
