BEGIN:VCALENDAR
VERSION:2.0
PRODID:-//Library Market//iCal Export//EN
BEGIN:VEVENT
SUMMARY:TEENS - DIY Beaded Plant Suncatcher
UID:18871
DTSTAMP:20260421T215800Z
DTSTART:20260507T220000Z
DTEND:20260507T233000Z
LOCATION:Coos Bay Public Library, 525 Anderson Avenue, Coos Bay, OR 97420,
  United States
ROOM: Cedar Room
DESCRIPTION:Teens ages 13-18 are invited to join us to make DIY Beaded Pla
 nt Suncatchers. All supplies provided/No Experience Necessary
URL:https://www.coosbaylibrary.org/event/teens-diy-beaded-plant-suncatcher
 -18871
END:VEVENT
END:VCALENDAR
