BEGIN:VCALENDAR
VERSION:2.0
PRODID:-//Library Market//iCal Export//EN
BEGIN:VEVENT
SUMMARY:Sole Mates&#039; Community Walk
UID:18857
DTSTAMP:20260422T032400Z
DTSTART:20260530T170000Z
DTEND:20260530T180000Z
LOCATION:Mingus Park, 230 N 10th St, Coos Bay, OR 97420, United States
ROOM: Sole Mates&#039; Community Walk
DESCRIPTION: May Trail: Mingus Park Meet the Sole Mates!In May of 2023, 
 Coos Bay Public Library, Oregon Health &amp; Science University (OHSU), an
 d twenty members of the Coos Bay community formed the Sole Mates. This par
 tnership began a two-year research study to learn the effects of walking a
 s a group and engaging civically to improve public health and walkability 
 in our community. The Sole Mates decided to use funds awarded by OHSU to c
 reate a free walking guide to inspire other community members to get outsi
 de, walk, and improve their health. Coos Bay Public Library and the Sole 
 Mates, will co-host Sole Mates’ Community Walk on every fourth Saturday 
 (due to holiday, we’ll meet on 5th Saturday in May). May walk will be he
 ld at Mingus Park. Meet and park by baseball field, 230 N 10th St, Coos Ba
 y).  Every month, we will meet at the next trail in the Walking Guide. W
 alks are FREE to join and open to everyone!  Let&#039;s walk! Get a ph
 ysical copy of the guide at the library or click here to download it  
URL:https://www.coosbaylibrary.org/event/sole-mates-community-walk-18857
END:VEVENT
END:VCALENDAR
