BEGIN:VCALENDAR
VERSION:2.0
PRODID:-//Library Market//iCal Export//EN
BEGIN:VEVENT
SUMMARY:Unlimited Book Club
UID:18853
DTSTAMP:20260421T215800Z
DTSTART:20260522T010000Z
DTEND:20260522T020000Z
LOCATION:
DESCRIPTION: CELEBRATING DIVERSITY, INCLUSION, AND UNDERSTANDING IN COOS 
 COUNTY VIA LITERATURE!The Unlimited Book Club is a joint venture of the Co
 os Bay Public Library and the North Bend Public Library, formed to encoura
 ge awareness and foster community discussions on equity, diversity, and in
 clusion through reading and thoughtful conversation.We meet every third Th
 ursday of the month. This meeting will be an opportunity for members to me
 et and discuss our next title, selected by members, The Invention of Wings
  by Sue Monk Kidd. Suggestions for future readings will come from book cl
 ub members. Those interested are invited to attend, there is no obligatio
 n to stay. After signing up, participants will be sent link for Zoom meeti
 ng.Register for this free virtual event @ https://bit.ly/3R6E57M Future B
 ooks:May 21, 2026: The Invention of Wings by Sue Monk KiddJune 18, 2026: Y
 ellowface by R.F. KuangJuly 16, 2026: Freshwater by Akwaeke EmeziAugust 20
 , 2026: The Color of Water: A Black Man&#039;s Tribute to His White Mother
  by James McBrideSeptember 17, 2026: $2.00 a Day: Living on Almost Nothing
  in America by Kathryn Edin and H. Luke Shaefer  Some of the books we ha
 ve read: 
URL:https://www.coosbaylibrary.org/event/unlimited-book-club-18853
END:VEVENT
END:VCALENDAR
