BEGIN:VCALENDAR
VERSION:2.0
PRODID:-//Library Market//iCal Export//EN
BEGIN:VEVENT
SUMMARY:Friday Night Felting:  DIY Cacti Felting Program for Teens &amp; A
 dults
UID:18828
DTSTAMP:20260421T215800Z
DTSTART:20260613T003000Z
DTEND:20260613T020000Z
LOCATION:Coos Bay Public Library, 525 Anderson Avenue, Coos Bay, OR 97420,
  United States
ROOM: Myrtlewood Room
DESCRIPTION:Friday Night Felting with LeBrie RichFriday, June 12, 5:30-7:0
 0pmAges 12-AdultCreate a house plant that will never die in a special Frid
 ay night felting program with the Duchess of Felt, LeBrie Rich. All partic
 ipants will walk away with their very own felt creation.Portland-based art
 ist LeBrie Rich has led felting workshops all over the Pacific Northwest. 
  Her work has been exhibited all over the world.  Learn more about LeBri
 e.All supplies provided.  No experience necessary.   Limited space is av
 ailable; registration opens May 12. 
URL:https://www.coosbaylibrary.org/event/friday-night-felting-diy-cacti-fe
 lting-program-teens-adults-18828
END:VEVENT
END:VCALENDAR
