BEGIN:VCALENDAR
VERSION:2.0
PRODID:-//Library Market//iCal Export//EN
BEGIN:VEVENT
SUMMARY:Club de Lectura
UID:18689
DTSTAMP:20260424T163500Z
DTSTART:20260523T000000Z
DTEND:20260523T010000Z
LOCATION:Coos Bay Public Library, 525 Anderson Avenue, Coos Bay, OR 97420,
  United States
ROOM: Cedar Room
DESCRIPTION:¿Disfrutas leer en español?¡Únete a nuestro club de lectur
 a y comparte tu pasión con otros amantes de los libros!Este 22 de mayo re
 únete con nosotros para discutir un libro seleccionado y compartir difere
 ntes puntos de vista. ¡Es una oportunidad para conocer personas con gusto
 s similares y ampliar nuestros horizontes literarios!¿Qué tipo de libros
  te gustaría leer? ¿Ficción, no ficción, clásicos o algo más?Nuestro
  libro del mes de mayo: &quot;Violeta&quot; de Isabel Allende.¡Esperamos 
 verte!
URL:https://www.coosbaylibrary.org/event/club-de-lectura-18689
END:VEVENT
END:VCALENDAR
