BEGIN:VCALENDAR
VERSION:2.0
PRODID:-//Library Market//iCal Export//EN
BEGIN:VEVENT
SUMMARY:Community Zumba
UID:18264
DTSTAMP:20260422T005700Z
DTSTART:20260910T003000Z
DTEND:20260910T013000Z
LOCATION:Coos Bay Public Library, 525 Anderson Avenue, Coos Bay, OR 97420,
  United States
ROOM: Myrtlewood Room
DESCRIPTION:
URL:https://www.coosbaylibrary.org/event/community-zumba-18264
END:VEVENT
END:VCALENDAR
