BEGIN:VCALENDAR
VERSION:2.0
PRODID:-//Library Market//iCal Export//EN
BEGIN:VEVENT
SUMMARY:Community Zumba
UID:18262
DTSTAMP:20260421T215800Z
DTSTART:20260813T003000Z
DTEND:20260813T013000Z
LOCATION:Coos Bay Public Library, 525 Anderson Avenue, Coos Bay, OR 97420,
  United States
ROOM: Myrtlewood Room
DESCRIPTION:
URL:https://www.coosbaylibrary.org/event/community-zumba-18262
END:VEVENT
END:VCALENDAR
