BEGIN:VCALENDAR
VERSION:2.0
PRODID:-//Library Market//iCal Export//EN
BEGIN:VEVENT
SUMMARY:CREA
UID:17717
DTSTAMP:20260424T165300Z
DTSTART:20260505T003000Z
DTEND:20260505T023000Z
LOCATION:Coos Bay Public Library, 525 Anderson Avenue, Coos Bay, OR 97420,
  United States
ROOM: Myrtlewood Room
DESCRIPTION:Construye, Reflexiona, Explora, Aprende¡Ven a pasar una tarde
  llena de risas, premios y competencia amistosa! Únete a nosotros el dí
 a 4 de mayo para un divertido juego de lotería. Además aprende un poco d
 e la celebración del Cinco de Mayo y la historia detrás de este aconteci
 miento historico. Trae a tu familia y amigos.¡No faltes!
URL:https://www.coosbaylibrary.org/event/crea-17717
END:VEVENT
END:VCALENDAR
