BEGIN:VCALENDAR
VERSION:2.0
PRODID:-//Library Market//iCal Export//EN
BEGIN:VEVENT
SUMMARY:Book Brunch
UID:16779
DTSTAMP:20260421T215800Z
DTSTART:20260613T180000Z
DTEND:20260613T190000Z
LOCATION:Coos Bay Public Library, 525 Anderson Avenue, Coos Bay, OR 97420,
  United States
ROOM: Myrtlewood Room
DESCRIPTION:Book Brunch is a book club devoted to reading, unrestricted by
  genre, plus, of course, brunch! Each month we will read a book, then mee
 t the second Saturday of the next month for waffles, orange juice, coffee
  etc., and a chat. This is a no pressure club, if you didn’t finish, tha
 t’s ok, just know there will be spoilers. We’re all here to share our
  love of books and breakfast food! This month we will be reading The Retu
 rn of Ellie Black by Emiko Jean. We will meet Saturday the 13th at 11am, 
 in the Myrtlewood Room.Hope to see you there!
URL:https://www.coosbaylibrary.org/event/book-brunch-16779
END:VEVENT
END:VCALENDAR
