BEGIN:VCALENDAR
VERSION:2.0
PRODID:-//Library Market//iCal Export//EN
BEGIN:VEVENT
SUMMARY:Movie Night
UID:16763
DTSTAMP:20260421T231400Z
DTSTART:20260716T003000Z
DTEND:20260716T023000Z
LOCATION:Coos Bay Public Library, 525 Anderson Avenue, Coos Bay, OR 97420,
  United States
ROOM: Myrtlewood Room
DESCRIPTION:1776 (1972) Rated PGJoin us the first and third Wednesday of e
 very month for a free, themed movie at the library. This month&#039;s them
 e: Celebrate the USA and the 250th anniversary of the signing of the Decla
 ration of Independence. Movies shown range from G to R ratings. Free popc
 orn and beverages provided.It&#039;s movie time!July 1st -  An American T
 ail (1986) Rated GJuly 15th-  1776 (1972) Rated PG 1776 - A musical rete
 lling of the Continental Congress, leading to the signing of the Declarati
 on of Independence.
URL:https://www.coosbaylibrary.org/event/movie-night-16763
END:VEVENT
END:VCALENDAR
