BEGIN:VCALENDAR
VERSION:2.0
PRODID:-//Library Market//iCal Export//EN
BEGIN:VEVENT
SUMMARY:Movie Night
UID:16762
DTSTAMP:20260421T215800Z
DTSTART:20260702T003000Z
DTEND:20260702T023000Z
LOCATION:Coos Bay Public Library, 525 Anderson Avenue, Coos Bay, OR 97420,
  United States
ROOM: Myrtlewood Room
DESCRIPTION:An American Tail (1986) Rated GJoin us the first and third Wed
 nesday of every month for a free, themed movie at the library. This month&
 #039;s theme: Celebrate the USA and the 250th anniversary of the signing o
 f the Declaration of Independence. Movies shown range from G to R ratings
 . Free popcorn and beverages provided.It&#039;s movie time!July 1st -  An
  American Tail (1986) Rated GJuly 15th-  1776 (1972) Rated PG An America
 n Tail - Join the young mouse Fievel and the rest of the mice immigrating 
 from Russia to the US and discovering that there are indeed cats in Americ
 a. 
URL:https://www.coosbaylibrary.org/event/movie-night-16762
END:VEVENT
END:VCALENDAR
